BEGIN:VCALENDAR
VERSION:2.0
PRODID:-//Tukios.com/
BEGIN:VEVENT
UID:c5dc7821-d943-456c-bd0e-7a36a672eb09@www.arkansascremation.com
DTSTAMP:20260421T084543Z
DTSTART:20260305T180000Z
DTEND:20260305T190000Z
SUMMARY:Memorial Service
DESCRIPTION:
URL:https://www.arkansascremation.com/obituaries/grady-nixon
LOCATION:Lakewood POA Activity Center 4500 Lakeshore Drive  North Little 
	Rock AR 72116
GEO:34.7955467;-92.2509856
END:VEVENT
END:VCALENDAR